BEGIN:VCALENDAR
VERSION:2.0
PRODID:-//eventon.com NONSGML v1.0//EN
CALSCALE:GREGORIAN
METHOD:PUBLISH
BEGIN:VEVENT
UID:69ea510af1f85
DTSTAMP:20260423T170410Z
DTSTART:20260516T190000Z
DTEND:20260516T210000Z
LOCATION:Summers Corner Performing Arts Center 318 Gnarly Oak Ln\,  Summerville\,  SC 29485
SUMMARY:Saturday: Subscription Series #6 - Scheherazade
DESCRIPTION:Buy tickets here! A magical and enchanting finish to our 22nd s
 eason! Join the S.O. as we perform the music of fairy tales\,  stories and 
 more! The concert opens with Michael Kamen’s soundtrack to Robin Hood: Pr
 ince of Thieves. We then present the Prologue to Bianca da Molena (The Whit
 e[..]\nhttps://summervilleorchestra.org/events/saturday-subscription-series
 -6-scheherazade/
URL:https://summervilleorchestra.org/events/saturday-subscription-series-6-scheherazade/
END:VEVENT
END:VCALENDAR